BEGIN:VCALENDAR
VERSION:2.0
PRODID:-//Suffolk Golf Union - ECPv6.13.2.1//NONSGML v1.0//EN
CALSCALE:GREGORIAN
METHOD:PUBLISH
X-WR-CALNAME:Suffolk Golf Union
X-ORIGINAL-URL:https://suffolkgolfunion.com
X-WR-CALDESC:Events for Suffolk Golf Union
REFRESH-INTERVAL;VALUE=DURATION:PT1H
X-Robots-Tag:noindex
X-PUBLISHED-TTL:PT1H
BEGIN:VTIMEZONE
TZID:Europe/London
BEGIN:DAYLIGHT
TZOFFSETFROM:+0000
TZOFFSETTO:+0100
TZNAME:BST
DTSTART:20260329T010000
END:DAYLIGHT
BEGIN:STANDARD
TZOFFSETFROM:+0100
TZOFFSETTO:+0000
TZNAME:GMT
DTSTART:20261025T010000
END:STANDARD
END:VTIMEZONE
BEGIN:VEVENT
DTSTART;VALUE=DATE:20260705
DTEND;VALUE=DATE:20260706
DTSTAMP:20260420T153019
CREATED:20251101T120818Z
LAST-MODIFIED:20251101T120818Z
UID:21926-1783209600-1783295999@suffolkgolfunion.com
SUMMARY:SEG U18 League @ Bungay & Waveney Valley GC
DESCRIPTION:
URL:https://suffolkgolfunion.com/event/seg-u18-league-bungay-waveney-valley-gc/
CATEGORIES:Juniors
END:VEVENT
END:VCALENDAR