BEGIN:VCALENDAR
VERSION:2.0
PRODID:-//Suffolk Golf Union - ECPv6.13.2.1//NONSGML v1.0//EN
CALSCALE:GREGORIAN
METHOD:PUBLISH
X-WR-CALNAME:Suffolk Golf Union
X-ORIGINAL-URL:https://suffolkgolfunion.com
X-WR-CALDESC:Events for Suffolk Golf Union
REFRESH-INTERVAL;VALUE=DURATION:PT1H
X-Robots-Tag:noindex
X-PUBLISHED-TTL:PT1H
BEGIN:VTIMEZONE
TZID:Europe/London
BEGIN:DAYLIGHT
TZOFFSETFROM:+0000
TZOFFSETTO:+0100
TZNAME:BST
DTSTART:20260329T010000
END:DAYLIGHT
BEGIN:STANDARD
TZOFFSETFROM:+0100
TZOFFSETTO:+0000
TZNAME:GMT
DTSTART:20261025T010000
END:STANDARD
END:VTIMEZONE
BEGIN:VEVENT
DTSTART;VALUE=DATE:20260702
DTEND;VALUE=DATE:20260703
DTSTAMP:20260420T153012
CREATED:20251101T120257Z
LAST-MODIFIED:20251101T120318Z
UID:21919-1782950400-1783036799@suffolkgolfunion.com
SUMMARY:Junior EG SE Qualifier "6 man" @ Ham Manor\, Angmering\, Sussex
DESCRIPTION:
URL:https://suffolkgolfunion.com/event/junior-eg-se-qualifier-ham-manor-angmering-sussex/
CATEGORIES:Juniors
END:VEVENT
END:VCALENDAR