BEGIN:VCALENDAR
VERSION:2.0
PRODID:-//Suffolk Golf Union - ECPv6.13.2.1//NONSGML v1.0//EN
CALSCALE:GREGORIAN
METHOD:PUBLISH
X-ORIGINAL-URL:https://suffolkgolfunion.com
X-WR-CALDESC:Events for Suffolk Golf Union
REFRESH-INTERVAL;VALUE=DURATION:PT1H
X-Robots-Tag:noindex
X-PUBLISHED-TTL:PT1H
BEGIN:VTIMEZONE
TZID:Europe/London
BEGIN:DAYLIGHT
TZOFFSETFROM:+0000
TZOFFSETTO:+0100
TZNAME:BST
DTSTART:20260329T010000
END:DAYLIGHT
BEGIN:STANDARD
TZOFFSETFROM:+0100
TZOFFSETTO:+0000
TZNAME:GMT
DTSTART:20261025T010000
END:STANDARD
END:VTIMEZONE
BEGIN:VEVENT
DTSTART;VALUE=DATE:20260823
DTEND;VALUE=DATE:20260824
DTSTAMP:20260420T152447
CREATED:20251101T121423Z
LAST-MODIFIED:20260215T171040Z
UID:10000605-1787443200-1787529599@suffolkgolfunion.com
SUMMARY:SEG U16 League @ Leighton Buzzard GC\, Bedfordshire
DESCRIPTION:
URL:https://suffolkgolfunion.com/event/seg-u16-league-bedfordshire-tba/
LOCATION:Suffolk
CATEGORIES:Juniors
END:VEVENT
BEGIN:VEVENT
DTSTART;VALUE=DATE:20260825
DTEND;VALUE=DATE:20260828
DTSTAMP:20260420T152447
CREATED:20251023T141102Z
LAST-MODIFIED:20251023T141102Z
UID:10000583-1787616000-1787875199@suffolkgolfunion.com
SUMMARY:English Boys County Championship
DESCRIPTION:
URL:https://suffolkgolfunion.com/event/english-boys-county-championship/
LOCATION:Goswick Golf Club\, Station Cottages\, Goswick\, Nortumberland\, TD15 2RW\, United Kingdom
CATEGORIES:Juniors
GEO:55.7061563;-1.9286619
X-APPLE-STRUCTURED-LOCATION;VALUE=URI;X-ADDRESS=Goswick Golf Club Station Cottages Goswick Nortumberland TD15 2RW United Kingdom;X-APPLE-RADIUS=500;X-TITLE=Station Cottages:geo:-1.9286619,55.7061563
END:VEVENT
BEGIN:VEVENT
DTSTART;VALUE=DATE:20260830
DTEND;VALUE=DATE:20260831
DTSTAMP:20260420T152447
CREATED:20251101T122453Z
LAST-MODIFIED:20260205T131404Z
UID:10000616-1788048000-1788134399@suffolkgolfunion.com
SUMMARY:U12 League @ Ely GC\, Cambridgeshire
DESCRIPTION:
URL:https://suffolkgolfunion.com/event/u12-league-cambridgeshire-tba/
LOCATION:Suffolk
CATEGORIES:Juniors
END:VEVENT
BEGIN:VEVENT
DTSTART;VALUE=DATE:20260831
DTEND;VALUE=DATE:20260901
DTSTAMP:20260420T152447
CREATED:20251023T141316Z
LAST-MODIFIED:20251023T141316Z
UID:10000584-1788134400-1788220799@suffolkgolfunion.com
SUMMARY:Suffolk Punch
DESCRIPTION:
URL:https://suffolkgolfunion.com/event/suffolk-punch/
LOCATION:Halesworth Golf Club\, Bramfield Rd\, Halesworth IP19 9XA\, UK\, Halesworth\, Suffolk\, IP19 9XA\, United Kingdom
CATEGORIES:Handicap OOM event,Juniors,Mens,Seniors
GEO:52.3284719;1.5121301
X-APPLE-STRUCTURED-LOCATION;VALUE=URI;X-ADDRESS=Halesworth Golf Club Bramfield Rd Halesworth IP19 9XA UK Halesworth Suffolk IP19 9XA United Kingdom;X-APPLE-RADIUS=500;X-TITLE=Bramfield Rd\, Halesworth IP19 9XA\, UK:geo:1.5121301,52.3284719
END:VEVENT
BEGIN:VEVENT
DTSTART;VALUE=DATE:20260912
DTEND;VALUE=DATE:20260913
DTSTAMP:20260420T152447
CREATED:20251023T142538Z
LAST-MODIFIED:20251023T142538Z
UID:10000589-1789171200-1789257599@suffolkgolfunion.com
SUMMARY:Stenson Shield Final
DESCRIPTION:
URL:https://suffolkgolfunion.com/event/stenson-shield-final-2/
LOCATION:Suffolk
CATEGORIES:Juniors,Mens,Seniors
END:VEVENT
BEGIN:VEVENT
DTSTART;VALUE=DATE:20260913
DTEND;VALUE=DATE:20260914
DTSTAMP:20260420T152447
CREATED:20251101T121620Z
LAST-MODIFIED:20251101T121620Z
UID:10000607-1789257600-1789343999@suffolkgolfunion.com
SUMMARY:U16 Tom Finn Trophy @ Flempton GC
DESCRIPTION:
URL:https://suffolkgolfunion.com/event/u16-tom-finn-trophy-flempton-gc/
LOCATION:Suffolk
CATEGORIES:Juniors
END:VEVENT
BEGIN:VEVENT
DTSTART;VALUE=DATE:20260920
DTEND;VALUE=DATE:20260921
DTSTAMP:20260420T152447
CREATED:20251023T143330Z
LAST-MODIFIED:20251023T143352Z
UID:10000591-1789862400-1789948799@suffolkgolfunion.com
SUMMARY:Suffolk Open Championship
DESCRIPTION:
URL:https://suffolkgolfunion.com/event/suffolk-open-championship-2/
LOCATION:Gorleston Golf Club\, Warren Rd\, Gorleston-on-Sea\, Hopton\, Great Yarmouth NR31 6JT\, UK
CATEGORIES:Juniors,Mens,Seniors
GEO:52.5535114;1.7274896
X-APPLE-STRUCTURED-LOCATION;VALUE=URI;X-ADDRESS=Gorleston Golf Club Warren Rd Gorleston-on-Sea Hopton Great Yarmouth NR31 6JT UK;X-APPLE-RADIUS=500;X-TITLE=Warren Rd\, Gorleston-on-Sea\, Hopton\, Great Yarmouth NR31 6JT\, UK:geo:1.7274896,52.5535114
END:VEVENT
BEGIN:VEVENT
DTSTART;VALUE=DATE:20260927
DTEND;VALUE=DATE:20260928
DTSTAMP:20260420T152447
CREATED:20251023T144430Z
LAST-MODIFIED:20251023T144446Z
UID:10000593-1790467200-1790553599@suffolkgolfunion.com
SUMMARY:Suffolk Matchplay Finals
DESCRIPTION:
URL:https://suffolkgolfunion.com/event/suffolk-matchplay-finals-2/
LOCATION:Rushmere Golf Club\, Rushmere\, Ipswich\, Suffolk\, IP4 5QQ\, United Kingdom
CATEGORIES:Juniors,Mens,Seniors
GEO:52.0591042;1.2046126
X-APPLE-STRUCTURED-LOCATION;VALUE=URI;X-ADDRESS=Rushmere Golf Club Rushmere Ipswich Suffolk IP4 5QQ United Kingdom;X-APPLE-RADIUS=500;X-TITLE=Rushmere:geo:1.2046126,52.0591042
END:VEVENT
BEGIN:VEVENT
DTSTART;VALUE=DATE:20260927
DTEND;VALUE=DATE:20260928
DTSTAMP:20260420T152447
CREATED:20251101T122542Z
LAST-MODIFIED:20260205T131330Z
UID:10000617-1790467200-1790553599@suffolkgolfunion.com
SUMMARY:U12 League @ Mattishall GC\, Norfolk
DESCRIPTION:
URL:https://suffolkgolfunion.com/event/u12-league-norfolk-tba/
LOCATION:Suffolk
CATEGORIES:Juniors
END:VEVENT
BEGIN:VEVENT
DTSTART;VALUE=DATE:20261018
DTEND;VALUE=DATE:20261019
DTSTAMP:20260420T152447
CREATED:20251023T144948Z
LAST-MODIFIED:20251023T144948Z
UID:10000595-1792281600-1792367999@suffolkgolfunion.com
SUMMARY:Race to Aldeburgh Finals
DESCRIPTION:
URL:https://suffolkgolfunion.com/event/race-to-aldeburgh-finals-2/
LOCATION:Aldeburgh Golf Club\, Saxmundham Rd\, Aldeburgh IP15 5PE\, UK
CATEGORIES:Juniors,Mens,Seniors
GEO:52.1632873;1.5787752
X-APPLE-STRUCTURED-LOCATION;VALUE=URI;X-ADDRESS=Aldeburgh Golf Club Saxmundham Rd Aldeburgh IP15 5PE UK;X-APPLE-RADIUS=500;X-TITLE=Saxmundham Rd\, Aldeburgh IP15 5PE\, UK:geo:1.5787752,52.1632873
END:VEVENT
END:VCALENDAR