BEGIN:VCALENDAR
VERSION:2.0
PRODID:-//Suffolk Golf Union - ECPv6.13.2.1//NONSGML v1.0//EN
CALSCALE:GREGORIAN
METHOD:PUBLISH
X-WR-CALNAME:Suffolk Golf Union
X-ORIGINAL-URL:https://suffolkgolfunion.com
X-WR-CALDESC:Events for Suffolk Golf Union
REFRESH-INTERVAL;VALUE=DURATION:PT1H
X-Robots-Tag:noindex
X-PUBLISHED-TTL:PT1H
BEGIN:VTIMEZONE
TZID:Europe/London
BEGIN:DAYLIGHT
TZOFFSETFROM:+0000
TZOFFSETTO:+0100
TZNAME:BST
DTSTART:20260329T010000
END:DAYLIGHT
BEGIN:STANDARD
TZOFFSETFROM:+0100
TZOFFSETTO:+0000
TZNAME:GMT
DTSTART:20261025T010000
END:STANDARD
END:VTIMEZONE
BEGIN:VEVENT
DTSTART;VALUE=DATE:20260613
DTEND;VALUE=DATE:20260614
DTSTAMP:20260420T121517
CREATED:20251101T121720Z
LAST-MODIFIED:20251203T194103Z
UID:10000608-1781308800-1781395199@suffolkgolfunion.com
SUMMARY:SEG U14 League @ Barnham Broom GC\, Norfolk
DESCRIPTION:
URL:https://suffolkgolfunion.com/event/seg-u14-league-bedfordshire-tba/
CATEGORIES:Juniors
END:VEVENT
BEGIN:VEVENT
DTSTART;VALUE=DATE:20260625
DTEND;VALUE=DATE:20260626
DTSTAMP:20260420T121517
CREATED:20251022T142532Z
LAST-MODIFIED:20251022T142532Z
UID:10000554-1782345600-1782431999@suffolkgolfunion.com
SUMMARY:Silver Barrell
DESCRIPTION:
URL:https://suffolkgolfunion.com/event/silver-barrell/
LOCATION:Ipswich Golf Club\, Purdis Heath\, Bucklesham Rd\, Warren Heath\, Ipswich IP3 8UQ\, UK
CATEGORIES:Handicap OOM event,Juniors,Mens,Seniors
GEO:52.0408379;1.2140159
X-APPLE-STRUCTURED-LOCATION;VALUE=URI;X-ADDRESS=Ipswich Golf Club Purdis Heath Bucklesham Rd Warren Heath Ipswich IP3 8UQ UK;X-APPLE-RADIUS=500;X-TITLE=Purdis Heath\, Bucklesham Rd\, Warren Heath\, Ipswich IP3 8UQ\, UK:geo:1.2140159,52.0408379
END:VEVENT
BEGIN:VEVENT
DTSTART;VALUE=DATE:20260627
DTEND;VALUE=DATE:20260629
DTSTAMP:20260420T121517
CREATED:20251022T142740Z
LAST-MODIFIED:20251022T142740Z
UID:10000555-1782518400-1782691199@suffolkgolfunion.com
SUMMARY:Suffolk Amateur Championship
DESCRIPTION:
URL:https://suffolkgolfunion.com/event/suffolk-amateur-championship/
LOCATION:Bury St Edmunds\, United Kingdom
CATEGORIES:Juniors,Mens,Seniors
GEO:55.378051;-3.435973
END:VEVENT
BEGIN:VEVENT
DTSTART;VALUE=DATE:20260701
DTEND;VALUE=DATE:20260702
DTSTAMP:20260420T121517
CREATED:20251101T120019Z
LAST-MODIFIED:20251101T120124Z
UID:10000596-1782864000-1782950399@suffolkgolfunion.com
SUMMARY:Junior EG SE Qualifier practice @ Ham Manor\, Angmering\, Sussex
DESCRIPTION:
URL:https://suffolkgolfunion.com/event/junior-eg-se-qualifier-practice-ham-manor-angmering-sussex/
CATEGORIES:Juniors
END:VEVENT
BEGIN:VEVENT
DTSTART;VALUE=DATE:20260702
DTEND;VALUE=DATE:20260703
DTSTAMP:20260420T121517
CREATED:20251101T120257Z
LAST-MODIFIED:20251101T120318Z
UID:10000597-1782950400-1783036799@suffolkgolfunion.com
SUMMARY:Junior EG SE Qualifier "6 man" @ Ham Manor\, Angmering\, Sussex
DESCRIPTION:
URL:https://suffolkgolfunion.com/event/junior-eg-se-qualifier-ham-manor-angmering-sussex/
CATEGORIES:Juniors
END:VEVENT
BEGIN:VEVENT
DTSTART;VALUE=DATE:20260705
DTEND;VALUE=DATE:20260706
DTSTAMP:20260420T121517
CREATED:20251101T120818Z
LAST-MODIFIED:20251101T120818Z
UID:10000600-1783209600-1783295999@suffolkgolfunion.com
SUMMARY:SEG U18 League @ Bungay & Waveney Valley GC
DESCRIPTION:
URL:https://suffolkgolfunion.com/event/seg-u18-league-bungay-waveney-valley-gc/
CATEGORIES:Juniors
END:VEVENT
BEGIN:VEVENT
DTSTART;VALUE=DATE:20260705
DTEND;VALUE=DATE:20260706
DTSTAMP:20260420T121517
CREATED:20251101T122257Z
LAST-MODIFIED:20251101T122257Z
UID:10000614-1783209600-1783295999@suffolkgolfunion.com
SUMMARY:U14 Triangular Shield @ Newton Green GC
DESCRIPTION:
URL:https://suffolkgolfunion.com/event/u14-triangular-shield-newton-green-gc/
CATEGORIES:Juniors
END:VEVENT
BEGIN:VEVENT
DTSTART;VALUE=DATE:20260711
DTEND;VALUE=DATE:20260712
DTSTAMP:20260420T121517
CREATED:20251022T144611Z
LAST-MODIFIED:20251022T144611Z
UID:10000562-1783728000-1783814399@suffolkgolfunion.com
SUMMARY:Eastern Counties Cup
DESCRIPTION:
URL:https://suffolkgolfunion.com/event/eastern-counties-cup-2/
LOCATION:Woodbridge Golf Club\, Heath Rd\, Woodbridge IP12 2PF\, UK
CATEGORIES:Handicap OOM event,Juniors,Mens,Seniors
GEO:52.0767658;1.3941525
X-APPLE-STRUCTURED-LOCATION;VALUE=URI;X-ADDRESS=Woodbridge Golf Club Heath Rd Woodbridge IP12 2PF UK;X-APPLE-RADIUS=500;X-TITLE=Heath Rd\, Woodbridge IP12 2PF\, UK:geo:1.3941525,52.0767658
END:VEVENT
BEGIN:VEVENT
DTSTART;VALUE=DATE:20260712
DTEND;VALUE=DATE:20260713
DTSTAMP:20260420T121517
CREATED:20251101T122405Z
LAST-MODIFIED:20251101T122405Z
UID:10000615-1783814400-1783900799@suffolkgolfunion.com
SUMMARY:U12 League @ St Audrys GC
DESCRIPTION:
URL:https://suffolkgolfunion.com/event/u12-league-st-audrys-gc/
CATEGORIES:Juniors
END:VEVENT
BEGIN:VEVENT
DTSTART;VALUE=DATE:20260714
DTEND;VALUE=DATE:20260717
DTSTAMP:20260420T121517
CREATED:20251022T145154Z
LAST-MODIFIED:20251022T145154Z
UID:10000563-1783987200-1784246399@suffolkgolfunion.com
SUMMARY:McGregor Trophy
DESCRIPTION:
URL:https://suffolkgolfunion.com/event/mcgregor-trophy-2/
CATEGORIES:Juniors
END:VEVENT
BEGIN:VEVENT
DTSTART;VALUE=DATE:20260716
DTEND;VALUE=DATE:20260720
DTSTAMP:20260420T121517
CREATED:20251022T145745Z
LAST-MODIFIED:20251023T150111Z
UID:10000565-1784160000-1784505599@suffolkgolfunion.com
SUMMARY:The Open
DESCRIPTION:
URL:https://suffolkgolfunion.com/event/the-open-2/
LOCATION:Royal Birkdale\, Waterloo Road\, Southport\, Lancashire\, PR8 2LX\, United Kingdom
CATEGORIES:Juniors,Mens,Seniors
GEO:53.6462605;-2.9571422
X-APPLE-STRUCTURED-LOCATION;VALUE=URI;X-ADDRESS=Royal Birkdale Waterloo Road Southport Lancashire PR8 2LX United Kingdom;X-APPLE-RADIUS=500;X-TITLE=Waterloo Road:geo:-2.9571422,53.6462605
END:VEVENT
BEGIN:VEVENT
DTSTART;VALUE=DATE:20260720
DTEND;VALUE=DATE:20260721
DTSTAMP:20260420T121517
CREATED:20251101T121531Z
LAST-MODIFIED:20260205T132219Z
UID:10000606-1784505600-1784591999@suffolkgolfunion.com
SUMMARY:U16 Skevington Trophy @ Colne Valley GC\, Essex
DESCRIPTION:
URL:https://suffolkgolfunion.com/event/u16-skevington-trophy-essex-tba/
CATEGORIES:Juniors
END:VEVENT
BEGIN:VEVENT
DTSTART;VALUE=DATE:20260721
DTEND;VALUE=DATE:20260725
DTSTAMP:20260420T121517
CREATED:20251022T150519Z
LAST-MODIFIED:20251022T150519Z
UID:10000567-1784592000-1784937599@suffolkgolfunion.com
SUMMARY:Carris Trophy
DESCRIPTION:
URL:https://suffolkgolfunion.com/event/carris-trophy-2/
LOCATION:Northampton County\, Golf Lane\, Church Brampton\, Northamptonshire\, NN6 8AY\, United Kingdom
CATEGORIES:Juniors
GEO:52.2844611;-0.9445667
X-APPLE-STRUCTURED-LOCATION;VALUE=URI;X-ADDRESS=Northampton County Golf Lane Church Brampton Northamptonshire NN6 8AY United Kingdom;X-APPLE-RADIUS=500;X-TITLE=Golf Lane:geo:-0.9445667,52.2844611
END:VEVENT
BEGIN:VEVENT
DTSTART;VALUE=DATE:20260725
DTEND;VALUE=DATE:20260726
DTSTAMP:20260420T121517
CREATED:20251022T150645Z
LAST-MODIFIED:20251022T150645Z
UID:10000568-1784937600-1785023999@suffolkgolfunion.com
SUMMARY:Stenson Shield Round 3
DESCRIPTION:
URL:https://suffolkgolfunion.com/event/stenson-shield-round-3-2/
CATEGORIES:Juniors,Mens,Seniors
END:VEVENT
BEGIN:VEVENT
DTSTART;VALUE=DATE:20260726
DTEND;VALUE=DATE:20260727
DTSTAMP:20260420T121517
CREATED:20251022T150727Z
LAST-MODIFIED:20251022T150727Z
UID:10000569-1785024000-1785110399@suffolkgolfunion.com
SUMMARY:Fishing Smack
DESCRIPTION:
URL:https://suffolkgolfunion.com/event/fishing-smack-2/
LOCATION:Rookery Park Golf Club\, Beccles Rd\, Carlton Colville\, Lowestoft NR33 8HJ\, UK
CATEGORIES:Handicap OOM event,Juniors,Mens,Seniors
GEO:52.455843;1.6793892
X-APPLE-STRUCTURED-LOCATION;VALUE=URI;X-ADDRESS=Rookery Park Golf Club Beccles Rd Carlton Colville Lowestoft NR33 8HJ UK;X-APPLE-RADIUS=500;X-TITLE=Beccles Rd\, Carlton Colville\, Lowestoft NR33 8HJ\, UK:geo:1.6793892,52.455843
END:VEVENT
BEGIN:VEVENT
DTSTART;VALUE=DATE:20260802
DTEND;VALUE=DATE:20260803
DTSTAMP:20260420T121517
CREATED:20251101T121345Z
LAST-MODIFIED:20260205T132151Z
UID:10000604-1785628800-1785715199@suffolkgolfunion.com
SUMMARY:SEG U16 League @ Royal Norwich GC\, Norfolk
DESCRIPTION:
URL:https://suffolkgolfunion.com/event/seg-u16-league-norfolk-tba/
CATEGORIES:Juniors
END:VEVENT
BEGIN:VEVENT
DTSTART;VALUE=DATE:20260804
DTEND;VALUE=DATE:20260807
DTSTAMP:20260420T121517
CREATED:20251022T152534Z
LAST-MODIFIED:20251022T152534Z
UID:10000574-1785801600-1786060799@suffolkgolfunion.com
SUMMARY:Reid Trophy
DESCRIPTION:
URL:https://suffolkgolfunion.com/event/reid-trophy-2/
LOCATION:Porters Park Golf Club\, Shenley Hill\, Radlett\, Hertfordshire\, WD7 7AZ\, United Kingdom
CATEGORIES:Juniors
GEO:51.6870215;-0.3084659
X-APPLE-STRUCTURED-LOCATION;VALUE=URI;X-ADDRESS=Porters Park Golf Club Shenley Hill Radlett Hertfordshire WD7 7AZ United Kingdom;X-APPLE-RADIUS=500;X-TITLE=Shenley Hill:geo:-0.3084659,51.6870215
END:VEVENT
BEGIN:VEVENT
DTSTART;VALUE=DATE:20260805
DTEND;VALUE=DATE:20260806
DTSTAMP:20260420T121517
CREATED:20251101T121050Z
LAST-MODIFIED:20251101T121050Z
UID:10000601-1785888000-1785974399@suffolkgolfunion.com
SUMMARY:U18 Anglian League Qualifier @ Halesworth GC
DESCRIPTION:
URL:https://suffolkgolfunion.com/event/u18-anglian-league-qualifier-halesworth-gc/
CATEGORIES:Juniors
END:VEVENT
BEGIN:VEVENT
DTSTART;VALUE=DATE:20260809
DTEND;VALUE=DATE:20260810
DTSTAMP:20260420T121517
CREATED:20251023T135623Z
LAST-MODIFIED:20260205T120755Z
UID:10000576-1786233600-1786319999@suffolkgolfunion.com
SUMMARY:Sir John Drughorn
DESCRIPTION:
URL:https://suffolkgolfunion.com/event/sir-john-drughorn/
LOCATION:Gorleston Golf Club\, Warren Rd\, Gorleston-on-Sea\, Hopton\, Great Yarmouth NR31 6JT\, UK
CATEGORIES:Handicap OOM event,Juniors,Mens,Seniors
GEO:52.5535114;1.7274896
X-APPLE-STRUCTURED-LOCATION;VALUE=URI;X-ADDRESS=Gorleston Golf Club Warren Rd Gorleston-on-Sea Hopton Great Yarmouth NR31 6JT UK;X-APPLE-RADIUS=500;X-TITLE=Warren Rd\, Gorleston-on-Sea\, Hopton\, Great Yarmouth NR31 6JT\, UK:geo:1.7274896,52.5535114
END:VEVENT
BEGIN:VEVENT
DTSTART;VALUE=DATE:20260809
DTEND;VALUE=DATE:20260810
DTSTAMP:20260420T121517
CREATED:20251023T135710Z
LAST-MODIFIED:20260204T115957Z
UID:10000577-1786233600-1786319999@suffolkgolfunion.com
SUMMARY:Coronation Cup
DESCRIPTION:
URL:https://suffolkgolfunion.com/event/coronation-cup-2/
LOCATION:Felixtowe Ferry Golf Club\, Ferry Rd\, Felixstowe IP11 9RY\, UK
CATEGORIES:Handicap OOM event,Juniors,Mens,Seniors
GEO:51.9779095;1.3821126
X-APPLE-STRUCTURED-LOCATION;VALUE=URI;X-ADDRESS=Felixtowe Ferry Golf Club Ferry Rd Felixstowe IP11 9RY UK;X-APPLE-RADIUS=500;X-TITLE=Ferry Rd\, Felixstowe IP11 9RY\, UK:geo:1.3821126,51.9779095
END:VEVENT
BEGIN:VEVENT
DTSTART;VALUE=DATE:20260812
DTEND;VALUE=DATE:20260813
DTSTAMP:20260420T121517
CREATED:20251101T122023Z
LAST-MODIFIED:20251101T122023Z
UID:10000612-1786492800-1786579199@suffolkgolfunion.com
SUMMARY:U14 Anglian Shield @ Brett Vale GC
DESCRIPTION:
URL:https://suffolkgolfunion.com/event/u14-anglian-shield-brett-vale-gc/
CATEGORIES:Juniors
END:VEVENT
BEGIN:VEVENT
DTSTART;VALUE=DATE:20260817
DTEND;VALUE=DATE:20260818
DTSTAMP:20260420T121517
CREATED:20251101T121138Z
LAST-MODIFIED:20260205T131457Z
UID:10000602-1786924800-1787011199@suffolkgolfunion.com
SUMMARY:U18 Anglian League Final @ Swaffham GC\, Norfolk
DESCRIPTION:
URL:https://suffolkgolfunion.com/event/u18-anglian-league-final-norfolk-tba/
CATEGORIES:Juniors
END:VEVENT
BEGIN:VEVENT
DTSTART;VALUE=DATE:20260819
DTEND;VALUE=DATE:20260820
DTSTAMP:20260420T121517
CREATED:20251101T121937Z
LAST-MODIFIED:20251101T121937Z
UID:10000611-1787097600-1787183999@suffolkgolfunion.com
SUMMARY:U14 Keith Bass Trophy @ Diss GC
DESCRIPTION:
URL:https://suffolkgolfunion.com/event/u14-keith-bass-trophy-diss-gc/
CATEGORIES:Juniors
END:VEVENT
BEGIN:VEVENT
DTSTART;VALUE=DATE:20260822
DTEND;VALUE=DATE:20260823
DTSTAMP:20260420T121517
CREATED:20251023T140625Z
LAST-MODIFIED:20251023T140625Z
UID:10000582-1787356800-1787443199@suffolkgolfunion.com
SUMMARY:Stenson Shield Semi Final
DESCRIPTION:
URL:https://suffolkgolfunion.com/event/stenson-shield-semi-final/
CATEGORIES:Juniors,Mens,Seniors
END:VEVENT
BEGIN:VEVENT
DTSTART;VALUE=DATE:20260823
DTEND;VALUE=DATE:20260824
DTSTAMP:20260420T121517
CREATED:20251101T121423Z
LAST-MODIFIED:20260215T171040Z
UID:10000605-1787443200-1787529599@suffolkgolfunion.com
SUMMARY:SEG U16 League @ Leighton Buzzard GC\, Bedfordshire
DESCRIPTION:
URL:https://suffolkgolfunion.com/event/seg-u16-league-bedfordshire-tba/
CATEGORIES:Juniors
END:VEVENT
BEGIN:VEVENT
DTSTART;VALUE=DATE:20260825
DTEND;VALUE=DATE:20260828
DTSTAMP:20260420T121517
CREATED:20251023T141102Z
LAST-MODIFIED:20251023T141102Z
UID:10000583-1787616000-1787875199@suffolkgolfunion.com
SUMMARY:English Boys County Championship
DESCRIPTION:
URL:https://suffolkgolfunion.com/event/english-boys-county-championship/
LOCATION:Goswick Golf Club\, Station Cottages\, Goswick\, Nortumberland\, TD15 2RW\, United Kingdom
CATEGORIES:Juniors
GEO:55.7061563;-1.9286619
X-APPLE-STRUCTURED-LOCATION;VALUE=URI;X-ADDRESS=Goswick Golf Club Station Cottages Goswick Nortumberland TD15 2RW United Kingdom;X-APPLE-RADIUS=500;X-TITLE=Station Cottages:geo:-1.9286619,55.7061563
END:VEVENT
BEGIN:VEVENT
DTSTART;VALUE=DATE:20260830
DTEND;VALUE=DATE:20260831
DTSTAMP:20260420T121517
CREATED:20251101T122453Z
LAST-MODIFIED:20260205T131404Z
UID:10000616-1788048000-1788134399@suffolkgolfunion.com
SUMMARY:U12 League @ Ely GC\, Cambridgeshire
DESCRIPTION:
URL:https://suffolkgolfunion.com/event/u12-league-cambridgeshire-tba/
CATEGORIES:Juniors
END:VEVENT
BEGIN:VEVENT
DTSTART;VALUE=DATE:20260831
DTEND;VALUE=DATE:20260901
DTSTAMP:20260420T121517
CREATED:20251023T141316Z
LAST-MODIFIED:20251023T141316Z
UID:10000584-1788134400-1788220799@suffolkgolfunion.com
SUMMARY:Suffolk Punch
DESCRIPTION:
URL:https://suffolkgolfunion.com/event/suffolk-punch/
LOCATION:Halesworth Golf Club\, Bramfield Rd\, Halesworth IP19 9XA\, UK\, Halesworth\, Suffolk\, IP19 9XA\, United Kingdom
CATEGORIES:Handicap OOM event,Juniors,Mens,Seniors
GEO:52.3284719;1.5121301
X-APPLE-STRUCTURED-LOCATION;VALUE=URI;X-ADDRESS=Halesworth Golf Club Bramfield Rd Halesworth IP19 9XA UK Halesworth Suffolk IP19 9XA United Kingdom;X-APPLE-RADIUS=500;X-TITLE=Bramfield Rd\, Halesworth IP19 9XA\, UK:geo:1.5121301,52.3284719
END:VEVENT
BEGIN:VEVENT
DTSTART;VALUE=DATE:20260912
DTEND;VALUE=DATE:20260913
DTSTAMP:20260420T121517
CREATED:20251023T142538Z
LAST-MODIFIED:20251023T142538Z
UID:10000589-1789171200-1789257599@suffolkgolfunion.com
SUMMARY:Stenson Shield Final
DESCRIPTION:
URL:https://suffolkgolfunion.com/event/stenson-shield-final-2/
CATEGORIES:Juniors,Mens,Seniors
END:VEVENT
BEGIN:VEVENT
DTSTART;VALUE=DATE:20260913
DTEND;VALUE=DATE:20260914
DTSTAMP:20260420T121517
CREATED:20251101T121620Z
LAST-MODIFIED:20251101T121620Z
UID:10000607-1789257600-1789343999@suffolkgolfunion.com
SUMMARY:U16 Tom Finn Trophy @ Flempton GC
DESCRIPTION:
URL:https://suffolkgolfunion.com/event/u16-tom-finn-trophy-flempton-gc/
CATEGORIES:Juniors
END:VEVENT
END:VCALENDAR