BEGIN:VCALENDAR
VERSION:2.0
PRODID:-//Suffolk Golf Union - ECPv6.13.2.1//NONSGML v1.0//EN
CALSCALE:GREGORIAN
METHOD:PUBLISH
X-WR-CALNAME:Suffolk Golf Union
X-ORIGINAL-URL:https://suffolkgolfunion.com
X-WR-CALDESC:Events for Suffolk Golf Union
REFRESH-INTERVAL;VALUE=DURATION:PT1H
X-Robots-Tag:noindex
X-PUBLISHED-TTL:PT1H
BEGIN:VTIMEZONE
TZID:Europe/London
BEGIN:DAYLIGHT
TZOFFSETFROM:+0000
TZOFFSETTO:+0100
TZNAME:BST
DTSTART:20250330T010000
END:DAYLIGHT
BEGIN:STANDARD
TZOFFSETFROM:+0100
TZOFFSETTO:+0000
TZNAME:GMT
DTSTART:20251026T010000
END:STANDARD
END:VTIMEZONE
BEGIN:VEVENT
DTSTART;VALUE=DATE:20250721
DTEND;VALUE=DATE:20250722
DTSTAMP:20260420T135541
CREATED:20250218T114650Z
LAST-MODIFIED:20250218T114650Z
UID:10000506-1753056000-1753142399@suffolkgolfunion.com
SUMMARY:U16 Skevington Trophy @ The Millbrook
DESCRIPTION:League
URL:https://suffolkgolfunion.com/event/u16-skevington-trophy-the-millbrook/
CATEGORIES:Juniors
END:VEVENT
BEGIN:VEVENT
DTSTART;VALUE=DATE:20250713
DTEND;VALUE=DATE:20250714
DTSTAMP:20260420T135541
CREATED:20250218T132205Z
LAST-MODIFIED:20250218T132205Z
UID:10000518-1752364800-1752451199@suffolkgolfunion.com
SUMMARY:U12 Suffolk v Norfolk @ St Audrys GC
DESCRIPTION:League
URL:https://suffolkgolfunion.com/event/u12-suffolk-v-norfolk-st-audrys-gc/
CATEGORIES:Juniors
END:VEVENT
BEGIN:VEVENT
DTSTART;VALUE=DATE:20250709
DTEND;VALUE=DATE:20250710
DTSTAMP:20260420T135541
CREATED:20250111T152921Z
LAST-MODIFIED:20250111T154227Z
UID:10000462-1752019200-1752105599@suffolkgolfunion.com
SUMMARY:English Schools Team Championship
DESCRIPTION:
URL:https://suffolkgolfunion.com/event/english-schools-team-championship/
CATEGORIES:Juniors
END:VEVENT
BEGIN:VEVENT
DTSTART;VALUE=DATE:20250706
DTEND;VALUE=DATE:20250707
DTSTAMP:20260420T135541
CREATED:20250218T132124Z
LAST-MODIFIED:20250218T132124Z
UID:10000517-1751760000-1751846399@suffolkgolfunion.com
SUMMARY:U14 Triangular Shield @ Wensum Valley GC
DESCRIPTION:League
URL:https://suffolkgolfunion.com/event/u14-triangular-shield-wensum-valley-gc/
CATEGORIES:Juniors
END:VEVENT
BEGIN:VEVENT
DTSTART;VALUE=DATE:20250703
DTEND;VALUE=DATE:20250704
DTSTAMP:20260420T135541
CREATED:20250218T115107Z
LAST-MODIFIED:20250218T115107Z
UID:10000508-1751500800-1751587199@suffolkgolfunion.com
SUMMARY:Junior EG SE Qualifier @ Clandon Regis
DESCRIPTION:League
URL:https://suffolkgolfunion.com/event/junior-eg-se-qualifier-clandon-regis/
CATEGORIES:Juniors
END:VEVENT
BEGIN:VEVENT
DTSTART;VALUE=DATE:20250614
DTEND;VALUE=DATE:20250615
DTSTAMP:20260420T135541
CREATED:20250218T130615Z
LAST-MODIFIED:20250218T130615Z
UID:10000513-1749859200-1749945599@suffolkgolfunion.com
SUMMARY:U14 SEG League @ Mattishall GC
DESCRIPTION:League
URL:https://suffolkgolfunion.com/event/u14-seg-league-mattishall-gc/
CATEGORIES:Juniors
END:VEVENT
BEGIN:VEVENT
DTSTART;VALUE=DATE:20250608
DTEND;VALUE=DATE:20250609
DTSTAMP:20260420T135541
CREATED:20250218T112349Z
LAST-MODIFIED:20250218T113207Z
UID:10000502-1749340800-1749427199@suffolkgolfunion.com
SUMMARY:U18 SEG League
DESCRIPTION:League
URL:https://suffolkgolfunion.com/event/u18-seg-league-3/
CATEGORIES:Juniors
END:VEVENT
BEGIN:VEVENT
DTSTART;VALUE=DATE:20250530
DTEND;VALUE=DATE:20250531
DTSTAMP:20260420T135541
CREATED:20250304T102011Z
LAST-MODIFIED:20250304T102011Z
UID:10000527-1748563200-1748649599@suffolkgolfunion.com
SUMMARY:Suffolk Junior Championship
DESCRIPTION:League
URL:https://suffolkgolfunion.com/event/suffolk-junior-championship/
LOCATION:Bury St Edmunds\, United Kingdom
CATEGORIES:Juniors
GEO:55.378051;-3.435973
END:VEVENT
BEGIN:VEVENT
DTSTART;VALUE=DATE:20250527
DTEND;VALUE=DATE:20250528
DTSTAMP:20260420T135541
CREATED:20250218T131930Z
LAST-MODIFIED:20250218T131930Z
UID:10000516-1748304000-1748390399@suffolkgolfunion.com
SUMMARY:U14 Suffolk v Norfolk @ Gorleston GC
DESCRIPTION:League
URL:https://suffolkgolfunion.com/event/u14-suffolk-v-norfolk-gorleston-gc/
CATEGORIES:Juniors
END:VEVENT
BEGIN:VEVENT
DTSTART;VALUE=DATE:20250525
DTEND;VALUE=DATE:20250526
DTSTAMP:20260420T135541
CREATED:20250218T113850Z
LAST-MODIFIED:20250218T113850Z
UID:10000503-1748131200-1748217599@suffolkgolfunion.com
SUMMARY:U18 SEG League
DESCRIPTION:League
URL:https://suffolkgolfunion.com/event/u18-seg-league-4/
CATEGORIES:Juniors
END:VEVENT
BEGIN:VEVENT
DTSTART;VALUE=DATE:20250518
DTEND;VALUE=DATE:20250519
DTSTAMP:20260420T135541
CREATED:20250123T154135Z
LAST-MODIFIED:20250123T154135Z
UID:10000498-1747526400-1747612799@suffolkgolfunion.com
SUMMARY:U16 League Match v Norfolk and Hertfordshire
DESCRIPTION:
URL:https://suffolkgolfunion.com/event/u16-league-match-v-norfolk-and-hertfordshire/
CATEGORIES:Juniors
END:VEVENT
BEGIN:VEVENT
DTSTART;VALUE=DATE:20250504
DTEND;VALUE=DATE:20250505
DTSTAMP:20260420T135541
CREATED:20250218T112349Z
LAST-MODIFIED:20250218T113542Z
UID:10000501-1746316800-1746403199@suffolkgolfunion.com
SUMMARY:U18 SEG League
DESCRIPTION:League
URL:https://suffolkgolfunion.com/event/u18-seg-league-2/
CATEGORIES:Juniors
END:VEVENT
BEGIN:VEVENT
DTSTART;VALUE=DATE:20250427
DTEND;VALUE=DATE:20250428
DTSTAMP:20260420T135541
CREATED:20250218T130515Z
LAST-MODIFIED:20250218T130515Z
UID:10000512-1745712000-1745798399@suffolkgolfunion.com
SUMMARY:U14 SEG League @ Fynn Valley GC
DESCRIPTION:League
URL:https://suffolkgolfunion.com/event/u14-seg-league-fynn-valley-gc/
CATEGORIES:Juniors
END:VEVENT
BEGIN:VEVENT
DTSTART;VALUE=DATE:20250330
DTEND;VALUE=DATE:20250331
DTSTAMP:20260420T135541
CREATED:20250218T130302Z
LAST-MODIFIED:20250218T130302Z
UID:10000511-1743292800-1743379199@suffolkgolfunion.com
SUMMARY:U14 SEG League @ John O`Gaunt
DESCRIPTION:League
URL:https://suffolkgolfunion.com/event/u14-seg-league-john-ogaunt/
CATEGORIES:Juniors
END:VEVENT
END:VCALENDAR